BEGIN:VCALENDAR
PRODID:-//Solspace/Calendar 2.x//EN
VERSION:2.0
CALSCALE:GREGORIAN
BEGIN:VEVENT
UID:4fb785079a60fb3279552aaa1ade1129@solspace.com
DTSTAMP:20260421T160234
DTSTART:20260401T130000
DTEND:20260401T140000
SUMMARY:Interviewing Basics for Professionals
END:VEVENT
END:VCALENDAR
