BEGIN:VCALENDAR
PRODID:-//Solspace/Calendar 2.x//EN
VERSION:2.0
CALSCALE:GREGORIAN
BEGIN:VEVENT
UID:dc26bfb6cdafb6abb47275fadaa11f45@solspace.com
DTSTAMP:20260421T171722
DTSTART:20260304T130000
DTEND:20260304T140000
SUMMARY:Career Seeker Orientation
END:VEVENT
BEGIN:VEVENT
UID:537d360e9536470ade78f9578560719c@solspace.com
DTSTAMP:20260421T171722
DTSTART:20260326T130000
DTEND:20260326T140000
SUMMARY:Career Seeker Orientation
END:VEVENT
END:VCALENDAR
