BEGIN:VCALENDAR
PRODID:-//Solspace/Calendar 2.x//EN
VERSION:2.0
CALSCALE:GREGORIAN
BEGIN:VEVENT
UID:1355f6ac8a7748fed73cbf27547927e7@solspace.com
DTSTAMP:20260421T160648
DTSTART:20260303T103000
DTEND:20260303T113000
SUMMARY:FEDERAL BONDING & WORK OPPORTUNITY TAX CREDIT (WOTC)
END:VEVENT
BEGIN:VEVENT
UID:d21e88a813fc6143363adf513bd3a75b@solspace.com
DTSTAMP:20260421T160648
DTSTART:20260317T103000
DTEND:20260317T113000
SUMMARY:FEDERAL BONDING & WORK OPPORTUNITY TAX CREDIT (WOTC)
END:VEVENT
BEGIN:VEVENT
UID:f3570deae73e65d799b03b81de0f5349@solspace.com
DTSTAMP:20260421T160648
DTSTART:20260331T103000
DTEND:20260331T113000
SUMMARY:FEDERAL BONDING & WORK OPPORTUNITY TAX CREDIT (WOTC)
END:VEVENT
END:VCALENDAR
