BEGIN:VCALENDAR
PRODID:-//Solspace/Calendar 2.x//EN
VERSION:2.0
CALSCALE:GREGORIAN
BEGIN:VEVENT
UID:9492c8a7c47b5e797b14052840719154@solspace.com
DTSTAMP:20260421T201353
DTSTART:20260218T083000
DTEND:20260218T103000
SUMMARY:CEO Meet & Greet
END:VEVENT
END:VCALENDAR
