BEGIN:VCALENDAR
PRODID:-//Solspace/Calendar 2.x//EN
VERSION:2.0
CALSCALE:GREGORIAN
BEGIN:VEVENT
UID:6d7052c3f4c19071f16dbe697e79b187@solspace.com
DTSTAMP:20260424T141258
DTSTART:20260305T150000
DTEND:20260305T170000
SUMMARY:2026 Summer Jobs & Internships Showcase
END:VEVENT
END:VCALENDAR
