BEGIN:VCALENDAR
PRODID:-//Solspace/Calendar 2.x//EN
VERSION:2.0
CALSCALE:GREGORIAN
BEGIN:VEVENT
UID:76513f5469148fc14f45c3b9ed65998f@solspace.com
DTSTAMP:20260424T141258
DTSTART:20260224T090000
DTEND:20260224T120000
SUMMARY:Gadsden County Hiring Fair
END:VEVENT
END:VCALENDAR
