BEGIN:VCALENDAR
PRODID:-//Solspace/Calendar 2.x//EN
VERSION:2.0
CALSCALE:GREGORIAN
BEGIN:VEVENT
UID:3330ad9b9d3f9f6912f9e881acd39238@solspace.com
DTSTAMP:20260421T123751
DTSTART:20260515T090000
DTEND:20260515T110000
SUMMARY:Find a Job Friday
END:VEVENT
END:VCALENDAR
