BEGIN:VCALENDAR
PRODID:-//Solspace/Calendar 2.x//EN
VERSION:2.0
CALSCALE:GREGORIAN
BEGIN:VEVENT
UID:4bea888d80d5439b6e94df5f53cbf473@solspace.com
DTSTAMP:20260421T223805
DTSTART:20260129T130000
DTEND:20260129T140000
SUMMARY:Career Seeker Orientation
END:VEVENT
BEGIN:VEVENT
UID:78a9fdad9a4bebd8aaa1a2d807c83240@solspace.com
DTSTAMP:20260421T223805
DTSTART:20260204T130000
DTEND:20260204T140000
SUMMARY:Career Seeker Orientation
END:VEVENT
BEGIN:VEVENT
UID:09ab487f01b2bc1a083e492a39493052@solspace.com
DTSTAMP:20260421T223805
DTSTART:20260226T130000
DTEND:20260226T140000
SUMMARY:Career Seeker Orientation
END:VEVENT
END:VCALENDAR
