BEGIN:VCALENDAR
PRODID:-//Solspace/Calendar 2.x//EN
VERSION:2.0
CALSCALE:GREGORIAN
BEGIN:VEVENT
UID:eb88ee63c964056e755a1248a1687523@solspace.com
DTSTAMP:20260421T144654
DTSTART:20260114T150000
DTEND:20260114T160000
SUMMARY:LEAP Information Session - Leon Career Center
END:VEVENT
BEGIN:VEVENT
UID:2879e86e71893151bcc8f6bac733dc18@solspace.com
DTSTAMP:20260421T144654
DTSTART:20260211T150000
DTEND:20260211T160000
SUMMARY:LEAP Information Session - Leon Career Center
END:VEVENT
BEGIN:VEVENT
UID:1753944369e73c32cca2e854787c979d@solspace.com
DTSTAMP:20260421T144654
DTSTART:20260408T150000
DTEND:20260408T160000
SUMMARY:LEAP Information Session - Leon Career Center
END:VEVENT
END:VCALENDAR
