BEGIN:VCALENDAR
PRODID:-//Solspace/Calendar 2.x//EN
VERSION:2.0
CALSCALE:GREGORIAN
BEGIN:VEVENT
UID:4bcfceeecce4d0e7c7d213e864f4b2b1@solspace.com
DTSTAMP:20260424T141250
DTSTART:20251212T120000
DTEND:20251212T130000
SUMMARY:IN PERSON: Career Center Partners Council Meeting
END:VEVENT
END:VCALENDAR
