BEGIN:VCALENDAR
PRODID:-//Solspace/Calendar 2.x//EN
VERSION:2.0
CALSCALE:GREGORIAN
BEGIN:VEVENT
UID:560359d0b69698a1bbb23a2df078b375@solspace.com
DTSTAMP:20260421T212737
DTSTART:20260122T090000
DTEND:20260122T120000
SUMMARY:State Agency Hiring Fair
END:VEVENT
END:VCALENDAR
