BEGIN:VCALENDAR
PRODID:-//Solspace/Calendar 2.x//EN
VERSION:2.0
CALSCALE:GREGORIAN
BEGIN:VEVENT
UID:793cdbd59a2ee13e064c5d3ebba3a0b4@solspace.com
DTSTAMP:20260421T202026
DTSTART:20251112T150000
DTEND:20251112T160000
SUMMARY:LEAP Orientation - Leon Center
END:VEVENT
END:VCALENDAR
