BEGIN:VCALENDAR
PRODID:-//Solspace/Calendar 2.x//EN
VERSION:2.0
CALSCALE:GREGORIAN
BEGIN:VEVENT
UID:f4e0e09e466dece9e1b6b84a38bd98fc@solspace.com
DTSTAMP:20260421T201400
DTSTART:20251105T130000
DTEND:20251105T140000
SUMMARY:WEBINAR: How to Work a Hiring Fair
END:VEVENT
END:VCALENDAR
