BEGIN:VCALENDAR
PRODID:-//Solspace/Calendar 2.x//EN
VERSION:2.0
CALSCALE:GREGORIAN
BEGIN:VEVENT
UID:6e07c245f4c7a917839287648f438228@solspace.com
DTSTAMP:20260421T201358
DTSTART:20251106T130000
DTEND:20251106T140000
SUMMARY:WEBINAR: How to Work a Hiring Fair
END:VEVENT
END:VCALENDAR
