BEGIN:VCALENDAR
PRODID:-//Solspace/Calendar 2.x//EN
VERSION:2.0
CALSCALE:GREGORIAN
BEGIN:VEVENT
UID:5bc811bae4079f038b276ea1d2a07a18@solspace.com
DTSTAMP:20260424T012703
DTSTART:20251205T113000
DTEND:20251205T130000
SUMMARY:Power Hour Lunch and Learn
END:VEVENT
END:VCALENDAR
