BEGIN:VCALENDAR
PRODID:-//Solspace/Calendar 2.x//EN
VERSION:2.0
CALSCALE:GREGORIAN
BEGIN:VEVENT
UID:80ac99622af848d17025fcee41f6fcff@solspace.com
DTSTAMP:20260421T201403
DTSTART:20251112T130000
DTEND:20251112T140000
SUMMARY:Gadsden Center: How to Work a Hiring Fair
END:VEVENT
END:VCALENDAR
