BEGIN:VCALENDAR
PRODID:-//Solspace/Calendar 2.x//EN
VERSION:2.0
CALSCALE:GREGORIAN
BEGIN:VEVENT
UID:5b825862dfb58567f321bf1883c64214@solspace.com
DTSTAMP:20260421T224410
DTSTART:20251022T150000
DTEND:20251022T160000
SUMMARY:LEAP (Learn\, Earn\, and Advance Program) Info Session
END:VEVENT
END:VCALENDAR
