BEGIN:VCALENDAR
PRODID:-//Solspace/Calendar 2.x//EN
VERSION:2.0
CALSCALE:GREGORIAN
BEGIN:VEVENT
UID:c84a7f7b068e8969d7208fd34d592c5f@solspace.com
DTSTAMP:20260421T201405
DTSTART:20251015T130000
DTEND:20251015T140000
SUMMARY:CAREER SEEKER ORIENTATION WORKSHOP
END:VEVENT
END:VCALENDAR
