BEGIN:VCALENDAR
PRODID:-//Solspace/Calendar 2.x//EN
VERSION:2.0
CALSCALE:GREGORIAN
BEGIN:VEVENT
UID:f8edd48a7592eac10d60531dfe0dc22e@solspace.com
DTSTAMP:20260421T212619
DTSTART:20251003T140000
DTEND:20251003T143000
SUMMARY:Executive Committee Meeting
END:VEVENT
END:VCALENDAR
