BEGIN:VCALENDAR
PRODID:-//Solspace/Calendar 2.x//EN
VERSION:2.0
CALSCALE:GREGORIAN
BEGIN:VEVENT
UID:828ef402a59f291f82c5cf5c27f950bf@solspace.com
DTSTAMP:20260421T201355
DTSTART:20251024T140000
DTEND:20251024T150000
SUMMARY:Employable Me - Job Searching - Exploring EmployFlorida.com
END:VEVENT
END:VCALENDAR
