BEGIN:VCALENDAR
PRODID:-//Solspace/Calendar 2.x//EN
VERSION:2.0
CALSCALE:GREGORIAN
BEGIN:VEVENT
UID:84165119d5b253423e880e2f8af54610@solspace.com
DTSTAMP:20260422T000329
DTSTART:20251113T090000
DTEND:20251113T120000
SUMMARY:Paychecks for Patriots Hiring Fair
END:VEVENT
END:VCALENDAR
