BEGIN:VCALENDAR
PRODID:-//Solspace/Calendar 2.x//EN
VERSION:2.0
CALSCALE:GREGORIAN
BEGIN:VEVENT
UID:c0b239c69b41eba60bf52244878a8c8f@solspace.com
DTSTAMP:20260421T201502
DTSTART:20251001T133000
DTEND:20251001T140000
SUMMARY:Personnel Committee
END:VEVENT
END:VCALENDAR
