BEGIN:VCALENDAR
PRODID:-//Solspace/Calendar 2.x//EN
VERSION:2.0
CALSCALE:GREGORIAN
BEGIN:VEVENT
UID:f73505b4958b9dac2a08794f28ed3cf7@solspace.com
DTSTAMP:20260421T201401
DTSTART:20251113T160000
DTEND:20251113T173000
SUMMARY:CAREER Express - Resume Writing Workshop hosted by Jefferson
  K12 School
END:VEVENT
END:VCALENDAR
