BEGIN:VCALENDAR
PRODID:-//Solspace/Calendar 2.x//EN
VERSION:2.0
CALSCALE:GREGORIAN
BEGIN:VEVENT
UID:314229ff982f207a5d0e58c0c93d23c2@solspace.com
DTSTAMP:20260421T201406
DTSTART:20251022T140000
DTEND:20251022T160000
SUMMARY:CAREER Express - Resume Writing Workshop hosted by Carter's 
 Corner
END:VEVENT
END:VCALENDAR
