BEGIN:VCALENDAR
PRODID:-//Solspace/Calendar 2.x//EN
VERSION:2.0
CALSCALE:GREGORIAN
BEGIN:VEVENT
UID:8576452b0ae7fbbf23cf7aeaf1f7c773@solspace.com
DTSTAMP:20260421T235343
DTSTART:20250925T133000
DTEND:20250925T170000
SUMMARY:CLOSED - Wakulla Career Center
END:VEVENT
END:VCALENDAR
