BEGIN:VCALENDAR
PRODID:-//Solspace/Calendar 2.x//EN
VERSION:2.0
CALSCALE:GREGORIAN
BEGIN:VEVENT
UID:7aa8519ff99baa28b30698624d292635@solspace.com
DTSTAMP:20260422T020712
DTSTART:20250925T100000
DTEND:20250925T110000
SUMMARY:CAREER Express - Career Seeker Orientation
END:VEVENT
END:VCALENDAR
