BEGIN:VCALENDAR
PRODID:-//Solspace/Calendar 2.x//EN
VERSION:2.0
CALSCALE:GREGORIAN
BEGIN:VEVENT
UID:9a530c8eb59fbee20bb9a6149bfc67ee@solspace.com
DTSTAMP:20260421T201353
DTSTART:20251105T140000
DTEND:20251105T160000
SUMMARY:CAREER Express: Resume Writing - Hosted by Builder of Men
END:VEVENT
END:VCALENDAR
