BEGIN:VCALENDAR
PRODID:-//Solspace/Calendar 2.x//EN
VERSION:2.0
CALSCALE:GREGORIAN
BEGIN:VEVENT
UID:2dc3a57e28341d0a8d2cdfe7b845f3ea@solspace.com
DTSTAMP:20260421T235343
DTSTART:20250916T110000
DTEND:20250916T120000
SUMMARY:Personnel Committee Meeting
END:VEVENT
END:VCALENDAR
