BEGIN:VCALENDAR
PRODID:-//Solspace/Calendar 2.x//EN
VERSION:2.0
CALSCALE:GREGORIAN
BEGIN:VEVENT
UID:3d957587a6ab6a6761fd8e53b4085db7@solspace.com
DTSTAMP:20260421T201356
DTSTART:20260122T173000
DTEND:20260122T193000
SUMMARY:Employable Me - Resume Writing Workshop
END:VEVENT
END:VCALENDAR
