BEGIN:VCALENDAR
PRODID:-//Solspace/Calendar 2.x//EN
VERSION:2.0
CALSCALE:GREGORIAN
BEGIN:VEVENT
UID:b4408342719fac3681cda9c39df0ff26@solspace.com
DTSTAMP:20260421T201505
DTSTART:20251025T123000
DTEND:20251025T153000
SUMMARY:Employable Me - Teen Resume Workshop
END:VEVENT
END:VCALENDAR
