BEGIN:VCALENDAR
PRODID:-//Solspace/Calendar 2.x//EN
VERSION:2.0
CALSCALE:GREGORIAN
BEGIN:VEVENT
UID:5d3775313c569ce2658a96b42332bec9@solspace.com
DTSTAMP:20260421T201450
DTSTART:20251018T140000
DTEND:20251018T153000
SUMMARY:Employable Me - Scary Good Interview Skills
END:VEVENT
END:VCALENDAR
