BEGIN:VCALENDAR
PRODID:-//Solspace/Calendar 2.x//EN
VERSION:2.0
CALSCALE:GREGORIAN
BEGIN:VEVENT
UID:5914f049bdf11f79164e56e186424920@solspace.com
DTSTAMP:20260421T201403
DTSTART:20251011T140000
DTEND:20251011T153000
SUMMARY:CANCELLED: Employable Me - Scary Good Interview Skills
END:VEVENT
END:VCALENDAR
