BEGIN:VCALENDAR
PRODID:-//Solspace/Calendar 2.x//EN
VERSION:2.0
CALSCALE:GREGORIAN
BEGIN:VEVENT
UID:6221234c6c911bdbaa814486f5de2b0b@solspace.com
DTSTAMP:20260422T000331
DTSTART:20250927T140000
DTEND:20250927T160000
SUMMARY:Employable Me - Teen Resume Workshop
END:VEVENT
END:VCALENDAR
