BEGIN:VCALENDAR
PRODID:-//Solspace/Calendar 2.x//EN
VERSION:2.0
CALSCALE:GREGORIAN
BEGIN:VEVENT
UID:01637aa85db721c20ec2b065e51a24d1@solspace.com
DTSTAMP:20260422T000327
DTSTART:20250911T173000
DTEND:20250911T193000
SUMMARY:Employable Me - Interviewing Skills
END:VEVENT
END:VCALENDAR
