BEGIN:VCALENDAR
PRODID:-//Solspace/Calendar 2.x//EN
VERSION:2.0
CALSCALE:GREGORIAN
BEGIN:VEVENT
UID:975c9fad4bca99cdabf3f9679350275d@solspace.com
DTSTAMP:20260421T201358
DTSTART:20251015T113000
DTEND:20251015T133000
SUMMARY:CAREER Express - Resume Writing Workshop
END:VEVENT
END:VCALENDAR
