BEGIN:VCALENDAR
PRODID:-//Solspace/Calendar 2.x//EN
VERSION:2.0
CALSCALE:GREGORIAN
BEGIN:VEVENT
UID:1c04bf5f44683123178937b1a849c289@solspace.com
DTSTAMP:20260422T005957
DTSTART:20250910T090000
DTEND:20250910T093000
SUMMARY:Chief Local Elected Officials Consortium Meeting
END:VEVENT
END:VCALENDAR
