BEGIN:VCALENDAR
PRODID:-//Solspace/Calendar 2.x//EN
VERSION:2.0
CALSCALE:GREGORIAN
BEGIN:VEVENT
UID:13d3014224002ff345c6cf661d8a9392@solspace.com
DTSTAMP:20260421T235341
DTSTART:20250904T163000
DTEND:20250904T170000
SUMMARY:Personnel Committee Meeting
END:VEVENT
END:VCALENDAR
