BEGIN:VCALENDAR
PRODID:-//Solspace/Calendar 2.x//EN
VERSION:2.0
CALSCALE:GREGORIAN
BEGIN:VEVENT
UID:50468fb12555b4fbdd84059752757afd@solspace.com
DTSTAMP:20260422T011025
DTSTART:20250813T153000
DTEND:20250813T163000
SUMMARY:CANCELLED: Strategic Policy and Planning Committee Meeting
END:VEVENT
END:VCALENDAR
