BEGIN:VCALENDAR
PRODID:-//Solspace/Calendar 2.x//EN
VERSION:2.0
CALSCALE:GREGORIAN
BEGIN:VEVENT
UID:1a0051b32972d6ec862a9416f6a4c744@solspace.com
DTSTAMP:20260421T235407
DTSTART:20250907T183000
DTEND:20250907T193000
SUMMARY:Personnel Committee Meeting
END:VEVENT
BEGIN:VEVENT
UID:5cf75647e2ef866449abc15977403c04@solspace.com
DTSTAMP:20260421T235407
DTSTART:20250908T183000
DTEND:20250908T193000
SUMMARY:Personnel Committee Meeting
END:VEVENT
END:VCALENDAR
