BEGIN:VCALENDAR
PRODID:-//Solspace/Calendar 2.x//EN
VERSION:2.0
CALSCALE:GREGORIAN
BEGIN:VEVENT
UID:3115b24e6fd1bd547a40845b8203858a@solspace.com
DTSTAMP:20260421T235407
DTSTART:20250908T140000
DTEND:20250908T153000
SUMMARY:Personnel Committee Meeting
END:VEVENT
BEGIN:VEVENT
UID:0fd23d61eef79623157f3a0ff5d23dc8@solspace.com
DTSTAMP:20260421T235407
DTSTART:20250909T140000
DTEND:20250909T153000
SUMMARY:Personnel Committee Meeting
END:VEVENT
END:VCALENDAR
