BEGIN:VCALENDAR
PRODID:-//Solspace/Calendar 2.x//EN
VERSION:2.0
CALSCALE:GREGORIAN
BEGIN:VEVENT
UID:20a5cc3e5f6d2926a449bae86f020c58@solspace.com
DTSTAMP:20260421T235341
DTSTART:20250908T090000
DTEND:20250908T103000
SUMMARY:Personnel Committee Meeting
END:VEVENT
BEGIN:VEVENT
UID:442a1e5c5c17a9153446cbf4983a270f@solspace.com
DTSTAMP:20260421T235341
DTSTART:20250909T090000
DTEND:20250909T103000
SUMMARY:Personnel Committee Meeting
END:VEVENT
END:VCALENDAR
