BEGIN:VCALENDAR
PRODID:-//Solspace/Calendar 2.x//EN
VERSION:2.0
CALSCALE:GREGORIAN
BEGIN:VEVENT
UID:f5f6439bbc7bc843954ba12117125f17@solspace.com
DTSTAMP:20260421T234944
DTSTART:20250807T140000
DTEND:20250807T153000
SUMMARY:CANCELLED: Governance Committee Meeting
END:VEVENT
BEGIN:VEVENT
UID:5acbf232beee1c5139c368751d15d5a9@solspace.com
DTSTAMP:20260421T234944
DTSTART:20260205T140000
DTEND:20260205T153000
SUMMARY:CANCELLED: Governance Committee Meeting
END:VEVENT
END:VCALENDAR
