BEGIN:VCALENDAR
PRODID:-//Solspace/Calendar 2.x//EN
VERSION:2.0
CALSCALE:GREGORIAN
BEGIN:VEVENT
UID:040ad57a680c889b4ed663cf15a5ee9e@solspace.com
DTSTAMP:20260421T145250
DTSTART:20251202T140000
DTEND:20251202T150000
SUMMARY:Governance Committee Meeting
END:VEVENT
BEGIN:VEVENT
UID:75e643b960b20545b5503c1418f96ae9@solspace.com
DTSTAMP:20260421T145250
DTSTART:20260507T140000
DTEND:20260507T150000
SUMMARY:Governance Committee Meeting
END:VEVENT
END:VCALENDAR
