BEGIN:VCALENDAR
PRODID:-//Solspace/Calendar 2.x//EN
VERSION:2.0
CALSCALE:GREGORIAN
BEGIN:VEVENT
UID:c4a98b63c9680644a2ae538ec785f7bf@solspace.com
DTSTAMP:20260422T011023
DTSTART:20250811T170000
DTEND:20250811T180000
SUMMARY:Personnel Committee Meeting
END:VEVENT
END:VCALENDAR
