BEGIN:VCALENDAR
PRODID:-//Solspace/Calendar 2.x//EN
VERSION:2.0
CALSCALE:GREGORIAN
BEGIN:VEVENT
UID:8c6298c28e34b89066149237e15dcffb@solspace.com
DTSTAMP:20260422T023914
DTSTART:20250717T153000
DTEND:20250717T163000
SUMMARY:WEBINAR: How to Work a Hiring Fair
END:VEVENT
END:VCALENDAR
