BEGIN:VCALENDAR
PRODID:-//Solspace/Calendar 2.x//EN
VERSION:2.0
CALSCALE:GREGORIAN
BEGIN:VEVENT
UID:a23c59eacb8e16e477d12618416f2d4a@solspace.com
DTSTAMP:20260422T022104
DTSTART:20250724T090000
DTEND:20250724T110000
SUMMARY:Coffee with a Vet July 2025
END:VEVENT
END:VCALENDAR
