BEGIN:VCALENDAR
PRODID:-//Solspace/Calendar 2.x//EN
VERSION:2.0
CALSCALE:GREGORIAN
BEGIN:VEVENT
UID:3c2ef4dde259930519c798f4dff74afa@solspace.com
DTSTAMP:20260422T021947
DTSTART:20250723T090000
DTEND:20250723T100000
SUMMARY:Chief Local Elected Officials Consortium Meeting
END:VEVENT
END:VCALENDAR
