BEGIN:VCALENDAR
PRODID:-//Solspace/Calendar 2.x//EN
VERSION:2.0
CALSCALE:GREGORIAN
BEGIN:VEVENT
UID:48a9ac0787cbd14e8e5ecac35046ac6a@solspace.com
DTSTAMP:20260421T123135
DTSTART:20260508T090000
DTEND:20260508T110000
SUMMARY:Find a Job Friday
END:VEVENT
END:VCALENDAR
