BEGIN:VCALENDAR
PRODID:-//Solspace/Calendar 2.x//EN
VERSION:2.0
CALSCALE:GREGORIAN
BEGIN:VEVENT
UID:31177263345c7d663bd84c3966d4f9e8@solspace.com
DTSTAMP:20260421T145535
DTSTART:20260410T090000
DTEND:20260410T110000
SUMMARY:Find a Job Friday
END:VEVENT
END:VCALENDAR
