BEGIN:VCALENDAR
PRODID:-//Solspace/Calendar 2.x//EN
VERSION:2.0
CALSCALE:GREGORIAN
BEGIN:VEVENT
UID:295986994b3af85ec56ff283e083a8d2@solspace.com
DTSTAMP:20260421T212752
DTSTART:20251219T090000
DTEND:20251219T110000
SUMMARY:Find a Job Friday
END:VEVENT
END:VCALENDAR
